Workbook

Sheet 直螺线管
B1: 直螺线管
B2: Is/mA | C2: 8
A3: x/cm | B3: 正正 | C3: 负负 | D3: 正负 | E3: 负正 | F3: UH | G3: B | H3: 纵坐标轴
A4: 3 | B4: 1.26 | C4: 1.92 | D4: -1.95 | E4: -1.29 | F4: =(B4+C4-D4-E4)/4 -> 1.605 | G4: =F4/(170*$C$2) -> 0.0011801471 | H4: 0.0035
A5: 6 | B5: 1.4 | C5: 2.07 | D5: -2.09 | E5: -1.41 | F5: =(B5+C5-D5-E5)/4 -> 1.7425 | G5: =F5/(170*$C$2) -> 0.00128125 | H5: 0.0036
A6: 9 | B6: 1.42 | C6: 2.1 | D6: -2.1 | E6: -1.44 | F6: =(B6+C6-D6-E6)/4 -> 1.765 | G6: =F6/(170*$C$2) -> 0.0012977941 | H6: 0.0037
A7: 12 | B7: 1.42 | C7: 2.1 | D7: -2.11 | E7: -1.44 | F7: =(B7+C7-D7-E7)/4 -> 1.7675 | G7: =F7/(170*$C$2) -> 0.0012996324 | H7: 0.0038
A8: 15 | B8: 1.42 | C8: 2.11 | D8: -2.12 | E8: -1.44 | F8: =(B8+C8-D8-E8)/4 -> 1.7725 | G8: =F8/(170*$C$2) -> 0.0013033088 | H8: 0.0039
A9: 18 | B9: 1.42 | C9: 2.11 | D9: -2.13 | E9: -1.43 | F9: =(B9+C9-D9-E9)/4 -> 1.7725 | G9: =F9/(170*$C$2) -> 0.0013033088 | H9: 0.004
A10: 21 | B10: 1.42 | C10: 2.11 | D10: -2.13 | E10: -1.43 | F10: =(B10+C10-D10-E10)/4 -> 1.7725 | G10: =F10/(170*$C$2) -> 0.0013033088 | H10: 5
A11: 24 | B11: 1.4 | C11: 2.1 | D11: -2.12 | E11: -1.41 | F11: =(B11+C11-D11-E11)/4 -> 1.7575 | G11: =F11/(170*$C$2) -> 0.0012922794 | H11: 5.1
A12: 27 | B12: 1.37 | C12: 2.08 | D12: -2.09 | E12: -1.37 | F12: =(B12+C12-D12-E12)/4 -> 1.7275 | G12: =F12/(170*$C$2) -> 0.0012702206 | H12: 5.2
A13: 30 | B13: 1.03 | C13: 1.7 | D13: -1.72 | E13: -1 | F13: =(B13+C13-D13-E13)/4 -> 1.3625 | G13: =F13/(170*$C$2) -> 0.0010018382 | H13: 5.3
A1048576: 张曾策 | B1048576: 20201118

Sheet 线圈
C1: Ba | I1: Bb | O1: Ba+b | U1: Ba+Bb
C2: Is/mA | D2: 3.00 | I2: Is/mA | J2: 3.00 | O2: Is/mA | P2: 3.00 | U2: Is/mA | V2: 8.00
A3: a=7cm | B3: x/cm | C3: 正正 | D3: 负负 | E3: 正负 | F3: 负正 | G3: UH | H3: B | I3: 正正 | J3: 负负 | K3: 正负 | L3: 负正 | M3: UH | N3: B | O3: 正正 | P3: 负负 | Q3: 正负 | R3: 负正 | S3: UH | T3: B | U3: 两次之和 | V3: 与Ba+b的差值
B4: -6 | C4: -0.2 | D4: 0.49 | E4: -0.52 | F4: 0.17 | G4: =(C4+D4-E4-F4)/4 -> 0.16 | H4: =G4/(170*$D$2) -> 0.00031372549 | I4: -0.33 | J4: 0.34 | K4: -0.37 | L4: 0.32 | M4: =(I4+J4-K4-L4)/4 -> 0.015 | N4: =M4/(170*$J$2) -> 2.9411765e-05 | O4: -0.18 | P4: 0.5 | Q4: -0.53 | R4: 0.16 | S4: =(O4+P4-Q4-R4)/4 -> 0.1725 | T4: =S4/(170*$P$2) -> 0.00033823529 | U4: =H4+N4 -> 0.00034313725 | V4: =T4-U4 -> -4.9019608e-06
B5: -4 | C5: -0.06 | D5: 0.61 | E5: -0.64 | F5: 0.05 | G5: =(C5+D5-E5-F5)/4 -> 0.285 | H5: =G5/(170*$D$2) -> 0.00055882353 | I5: -0.32 | J5: 0.36 | K5: -0.38 | L5: 0.3 | M5: =(I5+J5-K5-L5)/4 -> 0.03 | N5: =M5/(170*$J$2) -> 5.8823529e-05 | O5: -0.04 | P5: 0.64 | Q5: -0.67 | R5: 0.02 | S5: =(O5+P5-Q5-R5)/4 -> 0.3125 | T5: =S5/(170*$P$2) -> 0.0006127451 | U5: =H5+N5 -> 0.00061764706 | V5: =T5-U5 -> -4.9019608e-06
B6: -2 | C6: 0.08 | D6: 0.77 | E6: -0.79 | F6: -0.09 | G6: =(C6+D6-E6-F6)/4 -> 0.4325 | H6: =G6/(170*$D$2) -> 0.00084803922 | I6: -0.3 | J6: 0.38 | K6: -0.41 | L6: 0.28 | M6: =(I6+J6-K6-L6)/4 -> 0.0525 | N6: =M6/(170*$J$2) -> 0.00010294118 | O6: 0.11 | P6: 0.81 | Q6: -0.85 | R6: -0.15 | S6: =(O6+P6-Q6-R6)/4 -> 0.48 | T6: =S6/(170*$P$2) -> 0.00094117647 | U6: =H6+N6 -> 0.00095098039 | V6: =T6-U6 -> -9.8039216e-06
B7: 0 | C7: 0.12 | D7: 0.8 | E7: -0.84 | F7: -0.13 | G7: =(C7+D7-E7-F7)/4 -> 0.4725 | H7: =G7/(170*$D$2) -> 0.00092647059 | I7: -0.26 | J7: 0.42 | K7: -0.44 | L7: 0.24 | M7: =(I7+J7-K7-L7)/4 -> 0.09 | N7: =M7/(170*$J$2) -> 0.00017647059 | O7: 0.21 | P7: 0.91 | Q7: -0.93 | R7: -0.22 | S7: =(O7+P7-Q7-R7)/4 -> 0.5675 | T7: =S7/(170*$P$2) -> 0.0011127451 | U7: =H7+N7 -> 0.0011029412 | V7: =T7-U7 -> 9.8039216e-06
B8: 2 | C8: -0.01 | D8: 0.68 | E8: -0.69 | F8: -0.01 | G8: =(C8+D8-E8-F8)/4 -> 0.3425 | H8: =G8/(170*$D$2) -> 0.00067156863 | I8: -0.19 | J8: 0.5 | K8: -0.52 | L8: 0.17 | M8: =(I8+J8-K8-L8)/4 -> 0.165 | N8: =M8/(170*$J$2) -> 0.00032352941 | O8: 0.16 | P8: 0.86 | Q8: -0.87 | R8: -0.16 | S8: =(O8+P8-Q8-R8)/4 -> 0.5125 | T8: =S8/(170*$P$2) -> 0.001004902 | U8: =H8+N8 -> 0.00099509804 | V8: =T8-U8 -> 9.8039216e-06
B9: 4 | C9: -0.15 | D9: 0.53 | E9: -0.54 | F9: 0.13 | G9: =(C9+D9-E9-F9)/4 -> 0.1975 | H9: =G9/(170*$D$2) -> 0.0003872549 | I9: -0.06 | J9: 0.62 | K9: -0.66 | L9: 0.05 | M9: =(I9+J9-K9-L9)/4 -> 0.2925 | N9: =M9/(170*$J$2) -> 0.00057352941 | O9: 0.13 | P9: 0.83 | Q9: -0.85 | R9: -0.14 | S9: =(O9+P9-Q9-R9)/4 -> 0.4875 | T9: =S9/(170*$P$2) -> 0.00095588235 | U9: =H9+N9 -> 0.00096078431 | V9: =T9-U9 -> -4.9019608e-06
B10: 6 | C10: -0.23 | D10: 0.44 | E10: -0.46 | F10: 0.21 | G10: =(C10+D10-E10-F10)/4 -> 0.115 | H10: =G10/(170*$D$2) -> 0.0002254902 | I10: 0.07 | J10: 0.76 | K10: -0.79 | L10: -0.1 | M10: =(I10+J10-K10-L10)/4 -> 0.43 | N10: =M10/(170*$J$2) -> 0.00084313725 | O10: 0.19 | P10: 0.89 | Q10: -0.9 | R10: -0.21 | S10: =(O10+P10-Q10-R10)/4 -> 0.5475 | T10: =S10/(170*$P$2) -> 0.0010735294 | U10: =H10+N10 -> 0.0010686275 | V10: =T10-U10 -> 4.9019608e-06
B11: 8 | C11: -0.28 | D11: 0.39 | E11: -0.41 | F11: 0.27 | G11: =(C11+D11-E11-F11)/4 -> 0.0625 | H11: =G11/(170*$D$2) -> 0.00012254902 | I11: 0.1 | J11: 0.79 | K11: -0.8 | L11: -0.1 | M11: =(I11+J11-K11-L11)/4 -> 0.4475 | N11: =M11/(170*$J$2) -> 0.00087745098 | O11: 0.16 | P11: 0.85 | Q11: -0.87 | R11: -0.16 | S11: =(O11+P11-Q11-R11)/4 -> 0.51 | T11: =S11/(170*$P$2) -> 0.001 | U11: =H11+N11 -> 0.001 | V11: =T11-U11 -> 0
B12: 10 | C12: -0.31 | D12: 0.37 | E12: -0.38 | F12: 0.29 | G12: =(C12+D12-E12-F12)/4 -> 0.0375 | H12: =G12/(170*$D$2) -> 7.3529412e-05 | I12: -0.02 | J12: 0.65 | K12: -0.66 | L12: 0.02 | M12: =(I12+J12-K12-L12)/4 -> 0.3175 | N12: =M12/(170*$J$2) -> 0.00062254902 | O12: 0.01 | P12: 0.68 | Q12: -0.68 | R12: 0 | S12: =(O12+P12-Q12-R12)/4 -> 0.3425 | T12: =S12/(170*$P$2) -> 0.00067156863 | U12: =H12+N12 -> 0.00069607843 | V12: =T12-U12 -> -2.4509804e-05
B13: 12 | C13: -0.32 | D13: 0.35 | E13: -0.37 | F13: 0.3 | G13: =(C13+D13-E13-F13)/4 -> 0.025 | H13: =G13/(170*$D$2) -> 4.9019608e-05 | I13: -0.15 | J13: 0.52 | K13: -0.53 | L13: 0.14 | M13: =(I13+J13-K13-L13)/4 -> 0.19 | N13: =M13/(170*$J$2) -> 0.00037254902 | O13: -0.13 | P13: 0.54 | Q13: -0.56 | R13: 0.12 | S13: =(O13+P13-Q13-R13)/4 -> 0.2125 | T13: =S13/(170*$P$2) -> 0.00041666667 | U13: =H13+N13 -> 0.00042156863 | V13: =T13-U13 -> -4.9019608e-06
A14: a=5cm | B14: x/cm | C14: 正正 | D14: 负负 | E14: 正负 | F14: 负正 | G14: UH | H14: B | I14: 正正 | J14: 负负 | K14: 正负 | L14: 负正 | M14: UH | N14: B | O14: 正正 | P14: 负负 | Q14: 正负 | R14: 负正 | S14: UH | T14: B
B15: -6 | C15: 6.88 | D15: -0.53 | E15: -0.74 | F15: 6.3 | G15: =(C15+D15-E15-F15)/4 -> 0.1975 | H15: =G15/(170*$D$2) -> 0.0003872549 | I15: 7.56 | J15: -0.18 | K15: -1.55 | L15: 6.04 | M15: =(I15+J15-K15-L15)/4 -> 0.7225 | N15: =M15/(170*$J$2) -> 0.0014166667 | O15: 7.62 | P15: -0.07 | Q15: -1.7 | R15: 5.58 | S15: =(O15+P15-Q15-R15)/4 -> 0.9175 | T15: =S15/(170*$P$2) -> 0.0017990196 | U15: =H15+N15 -> 0.0018039216 | V15: =T15-U15 -> -4.9019608e-06
B16: -4 | C16: 6.96 | D16: -0.39 | E16: -0.84 | F16: 6.19 | G16: =(C16+D16-E16-F16)/4 -> 0.305 | H16: =G16/(170*$D$2) -> 0.00059803922 | I16: 8.01 | J16: 0.25 | K16: -2 | L16: 5.56 | M16: =(I16+J16-K16-L16)/4 -> 1.175 | N16: =M16/(170*$J$2) -> 0.0023039216 | O16: 8.24 | P16: 0.33 | Q16: -2.29 | R16: 4.96 | S16: =(O16+P16-Q16-R16)/4 -> 1.475 | T16: =S16/(170*$P$2) -> 0.0028921569 | U16: =H16+N16 -> 0.0029019608 | V16: =T16-U16 -> -9.8039216e-06
B17: -2 | C17: 7.21 | D17: -0.16 | E17: -1.1 | F17: 5.97 | G17: =(C17+D17-E17-F17)/4 -> 0.545 | H17: =G17/(170*$D$2) -> 0.0010686275 | I17: 8.2 | J17: 0.45 | K17: -2.16 | L17: 5.41 | M17: =(I17+J17-K17-L17)/4 -> 1.35 | N17: =M17/(170*$J$2) -> 0.0026470588 | O17: 8.48 | P17: 0.96 | Q17: -2.53 | R17: 4.77 | S17: =(O17+P17-Q17-R17)/4 -> 1.8 | T17: =S17/(170*$P$2) -> 0.0035294118 | U17: =H17+N17 -> 0.0037156863 | V17: =T17-U17 -> -0.00018627451
B18: 0 | C18: 7.54 | D18: 2.22 | E18: -1.5 | F18: 5.6 | G18: =(C18+D18-E18-F18)/4 -> 1.415 | H18: =G18/(170*$D$2) -> 0.0027745098 | I18: 7.87 | J18: 0.08 | K18: -1.9 | L18: 5.73 | M18: =(I18+J18-K18-L18)/4 -> 1.03 | N18: =M18/(170*$J$2) -> 0.0020196078 | O18: 8.45 | P18: 1.61 | Q18: -2.5 | R18: 4.79 | S18: =(O18+P18-Q18-R18)/4 -> 1.9425 | T18: =S18/(170*$P$2) -> 0.0038088235 | U18: =H18+N18 -> 0.0047941176 | V18: =T18-U18 -> -0.00098529412
B19: 2 | C19: 7.98 | D19: 0.63 | E19: -1.9 | F19: 5.16 | G19: =(C19+D19-E19-F19)/4 -> 1.3375 | H19: =G19/(170*$D$2) -> 0.002622549 | I19: 7.38 | J19: -0.31 | K19: -1.45 | L19: 6.19 | M19: =(I19+J19-K19-L19)/4 -> 0.5825 | N19: =M19/(170*$J$2) -> 0.0011421569 | O19: 8.47 | P19: 1.6 | Q19: -2.52 | R19: 4.76 | S19: =(O19+P19-Q19-R19)/4 -> 1.9575 | T19: =S19/(170*$P$2) -> 0.0038382353 | U19: =H19+N19 -> 0.0037647059 | V19: =T19-U19 -> 7.3529412e-05
B20: 4 | C20: 7.96 | D20: 0.61 | E20: -1.86 | F20: 5.17 | G20: =(C20+D20-E20-F20)/4 -> 1.315 | H20: =G20/(170*$D$2) -> 0.0025784314 | I20: 7.15 | J20: -0.59 | K20: -1.16 | L20: 6.47 | M20: =(I20+J20-K20-L20)/4 -> 0.3125 | N20: =M20/(170*$J$2) -> 0.0006127451 | O20: 8.2 | P20: 1.06 | Q20: -2.3 | R20: 5.02 | S20: =(O20+P20-Q20-R20)/4 -> 1.635 | T20: =S20/(170*$P$2) -> 0.0032058824 | U20: =H20+N20 -> 0.0031911765 | V20: =T20-U20 -> 1.4705882e-05
B21: 6 | C21: 7.51 | D21: 0.18 | E21: -1.43 | F21: 5.61 | G21: =(C21+D21-E21-F21)/4 -> 0.8775 | H21: =G21/(170*$D$2) -> 0.0017205882 | I21: 7.01 | J21: -0.71 | K21: -1.03 | L21: 6.6 | M21: =(I21+J21-K21-L21)/4 -> 0.1825 | N21: =M21/(170*$J$2) -> 0.00035784314 | O21: 7.61 | P21: 0.38 | Q21: -1.67 | R21: 5.57 | S21: =(O21+P21-Q21-R21)/4 -> 1.0225 | T21: =S21/(170*$P$2) -> 0.002004902 | U21: =H21+N21 -> 0.0020784314 | V21: =T21-U21 -> -7.3529412e-05
B22: 8 | C22: 7.14 | D22: -0.16 | E22: -1.08 | F22: 6 | G22: =(C22+D22-E22-F22)/4 -> 0.515 | H22: =G22/(170*$D$2) -> 0.0010098039 | I22: 6.93 | J22: -0.8 | K22: -0.97 | L22: 6.69 | M22: =(I22+J22-K22-L22)/4 -> 0.1025 | N22: =M22/(170*$J$2) -> 0.00020098039 | O22: 7.23 | P22: -0.05 | Q22: -1.26 | R22: 6.01 | S22: =(O22+P22-Q22-R22)/4 -> 0.6075 | T22: =S22/(170*$P$2) -> 0.0011911765 | U22: =H22+N22 -> 0.0012107843 | V22: =T22-U22 -> -1.9607843e-05
B23: 10 | C23: 6.96 | D23: -0.36 | E23: -0.86 | F23: 6.23 | G23: =(C23+D23-E23-F23)/4 -> 0.3075 | H23: =G23/(170*$D$2) -> 0.00060294118 | I23: 6.89 | J23: -0.83 | K23: -0.93 | L23: 6.74 | M23: =(I23+J23-K23-L23)/4 -> 0.0625 | N23: =M23/(170*$J$2) -> 0.00012254902 | O23: 7 | P23: -0.36 | Q23: -1.01 | R23: 6.26 | S23: =(O23+P23-Q23-R23)/4 -> 0.3475 | T23: =S23/(170*$P$2) -> 0.00068137255 | U23: =H23+N23 -> 0.0007254902 | V23: =T23-U23 -> -4.4117647e-05
B24: 12 | C24: 6.8 | D24: -0.48 | E24: -0.75 | F24: 6.34 | G24: =(C24+D24-E24-F24)/4 -> 0.1825 | H24: =G24/(170*$D$2) -> 0.00035784314 | I24: 6.84 | J24: -0.84 | K24: -0.91 | L24: 6.77 | M24: =(I24+J24-K24-L24)/4 -> 0.035 | N24: =M24/(170*$J$2) -> 6.8627451e-05 | O24: 6.86 | P24: -0.51 | Q24: -0.86 | R24: 6.39 | S24: =(O24+P24-Q24-R24)/4 -> 0.205 | T24: =S24/(170*$P$2) -> 0.00040196078 | U24: =H24+N24 -> 0.00042647059 | V24: =T24-U24 -> -2.4509804e-05
A25: a=3cm | B25: x/cm | C25: 正正 | D25: 负负 | E25: 正负 | F25: 负正 | G25: UH | H25: B | I25: 正正 | J25: 负负 | K25: 正负 | L25: 负正 | M25: UH | N25: B | O25: 正正 | P25: 负负 | Q25: 正负 | R25: 负正 | S25: UH | T25: B
B26: -6 | C26: 6.68 | D26: -0.51 | E26: -0.79 | F26: 6.39 | G26: =(C26+D26-E26-F26)/4 -> 0.1425 | H26: =G26/(170*$D$2) -> 0.00027941176 | I26: -0.28 | J26: 0.39 | K26: -0.42 | L26: 0.27 | M26: =(I26+J26-K26-L26)/4 -> 0.065 | N26: =M26/(170*$J$2) -> 0.00012745098 | O26: 7.19 | P26: -0.07 | Q26: -1.35 | R26: 6.01 | S26: =(O26+P26-Q26-R26)/4 -> 0.615 | T26: =S26/(170*$P$2) -> 0.0012058824 | U26: =H26+N26 -> 0.00040686275 | V26: =T26-U26 -> 0.00079901961
B27: -4 | C27: 6.82 | D27: -0.39 | E27: -0.92 | F27: 6.26 | G27: =(C27+D27-E27-F27)/4 -> 0.2725 | H27: =G27/(170*$D$2) -> 0.00053431373 | I27: -0.23 | J27: 0.44 | K27: -0.47 | L27: 0.22 | M27: =(I27+J27-K27-L27)/4 -> 0.115 | N27: =M27/(170*$J$2) -> 0.0002254902 | O27: 7.66 | P27: 0.33 | Q27: -1.79 | R27: 5.59 | S27: =(O27+P27-Q27-R27)/4 -> 1.0475 | T27: =S27/(170*$P$2) -> 0.0020539216 | U27: =H27+N27 -> 0.00075980392 | V27: =T27-U27 -> 0.0012941176
B28: -2 | C28: 7.23 | D28: -0.16 | E28: -1.14 | F28: 6.03 | G28: =(C28+D28-E28-F28)/4 -> 0.545 | H28: =G28/(170*$D$2) -> 0.0010686275 | I28: -0.15 | J28: 0.54 | K28: -0.57 | L28: 0.12 | M28: =(I28+J28-K28-L28)/4 -> 0.21 | N28: =M28/(170*$J$2) -> 0.00041176471 | O28: 8.35 | P28: 0.96 | Q28: -2.54 | R28: 4.82 | S28: =(O28+P28-Q28-R28)/4 -> 1.7575 | T28: =S28/(170*$P$2) -> 0.0034460784 | U28: =H28+N28 -> 0.0014803922 | V28: =T28-U28 -> 0.0019656863
B29: 0 | C29: 7.41 | D29: 0.25 | E29: -1.55 | F29: 5.61 | G29: =(C29+D29-E29-F29)/4 -> 0.9 | H29: =G29/(170*$D$2) -> 0.0017647059 | I29: 0 | J29: 0.71 | K29: -0.72 | L29: -0.02 | M29: =(I29+J29-K29-L29)/4 -> 0.3625 | N29: =M29/(170*$J$2) -> 0.00071078431 | O29: 8.94 | P29: 1.61 | Q29: -3.03 | R29: 4.27 | S29: =(O29+P29-Q29-R29)/4 -> 2.3275 | T29: =S29/(170*$P$2) -> 0.0045637255 | U29: =H29+N29 -> 0.0024754902 | V29: =T29-U29 -> 0.0020882353
B30: 2 | C30: 7.88 | D30: 0.66 | E30: -1.93 | F30: 5.23 | G30: =(C30+D30-E30-F30)/4 -> 1.31 | H30: =G30/(170*$D$2) -> 0.0025686275 | I30: 0.12 | J30: 0.82 | K30: -0.84 | L30: -0.14 | M30: =(I30+J30-K30-L30)/4 -> 0.48 | N30: =M30/(170*$J$2) -> 0.00094117647 | O30: 8.93 | P30: 1.6 | Q30: -3.04 | R30: 4.22 | S30: =(O30+P30-Q30-R30)/4 -> 2.3375 | T30: =S30/(170*$P$2) -> 0.0045833333 | U30: =H30+N30 -> 0.0035098039 | V30: =T30-U30 -> 0.0010735294
B31: 4 | C31: 7.86 | D31: 0.63 | E31: -1.9 | F31: 5.22 | G31: =(C31+D31-E31-F31)/4 -> 1.2925 | H31: =G31/(170*$D$2) -> 0.0025343137 | I31: 0.06 | J31: 0.71 | K31: -0.77 | L31: -0.08 | M31: =(I31+J31-K31-L31)/4 -> 0.405 | N31: =M31/(170*$J$2) -> 0.00079411765 | O31: 8.47 | P31: 1.06 | Q31: -2.49 | R31: 4.84 | S31: =(O31+P31-Q31-R31)/4 -> 1.795 | T31: =S31/(170*$P$2) -> 0.0035196078 | U31: =H31+N31 -> 0.0033284314 | V31: =T31-U31 -> 0.00019117647
B32: 6 | C32: 7.46 | D32: 0.12 | E32: -1.5 | F32: 5.67 | G32: =(C32+D32-E32-F32)/4 -> 0.8525 | H32: =G32/(170*$D$2) -> 0.0016715686 | I32: -0.08 | J32: 0.61 | K32: -0.61 | L32: 0.07 | M32: =(I32+J32-K32-L32)/4 -> 0.2675 | N32: =M32/(170*$J$2) -> 0.0005245098 | O32: 7.81 | P32: 0.38 | Q32: -1.82 | R32: 5.42 | S32: =(O32+P32-Q32-R32)/4 -> 1.1475 | T32: =S32/(170*$P$2) -> 0.00225 | U32: =H32+N32 -> 0.0021960784 | V32: =T32-U32 -> 5.3921569e-05
B33: 8 | C33: 7.08 | D33: -0.17 | E33: -1.12 | F33: 6.02 | G33: =(C33+D33-E33-F33)/4 -> 0.5025 | H33: =G33/(170*$D$2) -> 0.00098529412 | I33: -0.2 | J33: 0.49 | K33: -0.49 | L33: 0.19 | M33: =(I33+J33-K33-L33)/4 -> 0.1475 | N33: =M33/(170*$J$2) -> 0.00028921569 | O33: 7.26 | P33: -0.05 | Q33: -1.34 | R33: 5.96 | S33: =(O33+P33-Q33-R33)/4 -> 0.6475 | T33: =S33/(170*$P$2) -> 0.0012696078 | U33: =H33+N33 -> 0.0012745098 | V33: =T33-U33 -> -4.9019608e-06
B34: 10 | C34: 6.86 | D34: -0.38 | E34: -0.88 | F34: 6.25 | G34: =(C34+D34-E34-F34)/4 -> 0.2775 | H34: =G34/(170*$D$2) -> 0.00054411765 | I34: -0.26 | J34: 0.41 | K34: -0.43 | L34: 0.25 | M34: =(I34+J34-K34-L34)/4 -> 0.0825 | N34: =M34/(170*$J$2) -> 0.00016176471 | O34: 7.02 | P34: -0.36 | Q34: -1.07 | R34: 6.21 | S34: =(O34+P34-Q34-R34)/4 -> 0.38 | T34: =S34/(170*$P$2) -> 0.00074509804 | U34: =H34+N34 -> 0.00070588235 | V34: =T34-U34 -> 3.9215686e-05
B35: 12 | C35: 6.73 | D35: -0.49 | E35: -0.74 | F35: 6.32 | G35: =(C35+D35-E35-F35)/4 -> 0.165 | H35: =G35/(170*$D$2) -> 0.00032352941 | I35: -0.3 | J35: 0.38 | K35: -0.39 | L35: 0.28 | M35: =(I35+J35-K35-L35)/4 -> 0.0475 | N35: =M35/(170*$J$2) -> 9.3137255e-05 | O35: 6.85 | P35: -0.51 | Q35: -0.9 | R35: 6.34 | S35: =(O35+P35-Q35-R35)/4 -> 0.225 | T35: =S35/(170*$P$2) -> 0.00044117647 | U35: =H35+N35 -> 0.00041666667 | V35: =T35-U35 -> 2.4509804e-05

Sheet 汇总表
B1: x/cm | C1: Ba | D1: Bb | E1: Ba+b | F1: Ba+Bb
A2: a=7cm | B2: 11 | C2: =线圈!H4 -> 0.00031372549 | D2: =线圈!N4 -> 2.9411765e-05 | E2: =线圈!T4 -> 0.00033823529 | F2: =线圈!U4 -> 0.00034313725
B3: 13 | C3: =线圈!H5 -> 0.00055882353 | D3: =线圈!N5 -> 5.8823529e-05 | E3: =线圈!T5 -> 0.0006127451 | F3: =线圈!U5 -> 0.00061764706
B4: 15 | C4: =线圈!H6 -> 0.00084803922 | D4: =线圈!N6 -> 0.00010294118 | E4: =线圈!T6 -> 0.00094117647 | F4: =线圈!U6 -> 0.00095098039
B5: 17 | C5: =线圈!H7 -> 0.00092647059 | D5: =线圈!N7 -> 0.00017647059 | E5: =线圈!T7 -> 0.0011127451 | F5: =线圈!U7 -> 0.0011029412
B6: 19 | C6: =线圈!H8 -> 0.00067156863 | D6: =线圈!N8 -> 0.00032352941 | E6: =线圈!T8 -> 0.001004902 | F6: =线圈!U8 -> 0.00099509804
B7: 21 | C7: =线圈!H9 -> 0.0003872549 | D7: =线圈!N9 -> 0.00057352941 | E7: =线圈!T9 -> 0.00095588235 | F7: =线圈!U9 -> 0.00096078431
B8: 23 | C8: =线圈!H10 -> 0.0002254902 | D8: =线圈!N10 -> 0.00084313725 | E8: =线圈!T10 -> 0.0010735294 | F8: =线圈!U10 -> 0.0010686275
B9: 25 | C9: =线圈!H11 -> 0.00012254902 | D9: =线圈!N11 -> 0.00087745098 | E9: =线圈!T11 -> 0.001 | F9: =线圈!U11 -> 0.001
B10: 27 | C10: =线圈!H12 -> 7.3529412e-05 | D10: =线圈!N12 -> 0.00062254902 | E10: =线圈!T12 -> 0.00067156863 | F10: =线圈!U12 -> 0.00069607843
B11: 29 | C11: =线圈!H13 -> 4.9019608e-05 | D11: =线圈!N13 -> 0.00037254902 | E11: =线圈!T13 -> 0.00041666667 | F11: =线圈!U13 -> 0.00042156863
A12: a=5cm | B12: 11 | C12: =线圈!H15 -> 0.0003872549 | D12: =线圈!N15 -> 0.0014166667 | E12: =线圈!T15 -> 0.0017990196 | F12: =线圈!U15 -> 0.0018039216
B13: 13 | C13: =线圈!H16 -> 0.00059803922 | D13: =线圈!N16 -> 0.0023039216 | E13: =线圈!T16 -> 0.0028921569 | F13: =线圈!U16 -> 0.0029019608
B14: 15 | C14: =线圈!H17 -> 0.0010686275 | D14: =线圈!N17 -> 0.0026470588 | E14: =线圈!T17 -> 0.0035294118 | F14: =线圈!U17 -> 0.0037156863
B15: 17 | C15: =线圈!H18 -> 0.0027745098 | D15: =线圈!N18 -> 0.0020196078 | E15: =线圈!T18 -> 0.0038088235 | F15: =线圈!U18 -> 0.0047941176
B16: 19 | C16: =线圈!H19 -> 0.002622549 | D16: =线圈!N19 -> 0.0011421569 | E16: =线圈!T19 -> 0.0038382353 | F16: =线圈!U19 -> 0.0037647059
B17: 21 | C17: =线圈!H20 -> 0.0025784314 | D17: =线圈!N20 -> 0.0006127451 | E17: =线圈!T20 -> 0.0032058824 | F17: =线圈!U20 -> 0.0031911765
B18: 23 | C18: =线圈!H21 -> 0.0017205882 | D18: =线圈!N21 -> 0.00035784314 | E18: =线圈!T21 -> 0.002004902 | F18: =线圈!U21 -> 0.0020784314
B19: 25 | C19: =线圈!H22 -> 0.0010098039 | D19: =线圈!N22 -> 0.00020098039 | E19: =线圈!T22 -> 0.0011911765 | F19: =线圈!U22 -> 0.0012107843
B20: 27 | C20: =线圈!H23 -> 0.00060294118 | D20: =线圈!N23 -> 0.00012254902 | E20: =线圈!T23 -> 0.00068137255 | F20: =线圈!U23 -> 0.0007254902
B21: 29 | C21: =线圈!H24 -> 0.00035784314 | D21: =线圈!N24 -> 6.8627451e-05 | E21: =线圈!T24 -> 0.00040196078 | F21: =线圈!U24 -> 0.00042647059
A22: a=3cm | B22: 11 | C22: =线圈!H26 -> 0.00027941176 | D22: =线圈!N26 -> 0.00012745098 | E22: =线圈!T26 -> 0.0012058824 | F22: =线圈!U26 -> 0.00040686275
B23: 13 | C23: =线圈!H27 -> 0.00053431373 | D23: =线圈!N27 -> 0.0002254902 | E23: =线圈!T27 -> 0.0020539216 | F23: =线圈!U27 -> 0.00075980392
B24: 15 | C24: =线圈!H28 -> 0.0010686275 | D24: =线圈!N28 -> 0.00041176471 | E24: =线圈!T28 -> 0.0034460784 | F24: =线圈!U28 -> 0.0014803922
B25: 17 | C25: =线圈!H29 -> 0.0017647059 | D25: =线圈!N29 -> 0.00071078431 | E25: =线圈!T29 -> 0.0045637255 | F25: =线圈!U29 -> 0.0024754902
B26: 19 | C26: =线圈!H30 -> 0.0025686275 | D26: =线圈!N30 -> 0.00094117647 | E26: =线圈!T30 -> 0.0045833333 | F26: =线圈!U30 -> 0.0035098039
B27: 21 | C27: =线圈!H31 -> 0.0025343137 | D27: =线圈!N31 -> 0.00079411765 | E27: =线圈!T31 -> 0.0035196078 | F27: =线圈!U31 -> 0.0033284314
B28: 23 | C28: =线圈!H32 -> 0.0016715686 | D28: =线圈!N32 -> 0.0005245098 | E28: =线圈!T32 -> 0.00225 | F28: =线圈!U32 -> 0.0021960784
B29: 25 | C29: =线圈!H33 -> 0.00098529412 | D29: =线圈!N33 -> 0.00028921569 | E29: =线圈!T33 -> 0.0012696078 | F29: =线圈!U33 -> 0.0012745098
B30: 27 | C30: =线圈!H34 -> 0.00054411765 | D30: =线圈!N34 -> 0.00016176471 | E30: =线圈!T34 -> 0.00074509804 | F30: =线圈!U34 -> 0.00070588235
B31: 29 | C31: =线圈!H35 -> 0.00032352941 | D31: =线圈!N35 -> 9.3137255e-05 | E31: =线圈!T35 -> 0.00044117647 | F31: =线圈!U35 -> 0.00041666667
